BEGIN:VCALENDAR
VERSION:2.0
PRODID:-//Grafham Water Fly Fishers Association - ECPv6.15.12//NONSGML v1.0//EN
CALSCALE:GREGORIAN
METHOD:PUBLISH
X-WR-CALNAME:Grafham Water Fly Fishers Association
X-ORIGINAL-URL:https://grafhamflyfishers.co.uk
X-WR-CALDESC:Events for Grafham Water Fly Fishers Association
REFRESH-INTERVAL;VALUE=DURATION:PT1H
X-Robots-Tag:noindex
X-PUBLISHED-TTL:PT1H
BEGIN:VTIMEZONE
TZID:Europe/London
BEGIN:DAYLIGHT
TZOFFSETFROM:+0000
TZOFFSETTO:+0100
TZNAME:BST
DTSTART:20250330T010000
END:DAYLIGHT
BEGIN:STANDARD
TZOFFSETFROM:+0100
TZOFFSETTO:+0000
TZNAME:GMT
DTSTART:20251026T010000
END:STANDARD
BEGIN:DAYLIGHT
TZOFFSETFROM:+0000
TZOFFSETTO:+0100
TZNAME:BST
DTSTART:20260329T010000
END:DAYLIGHT
BEGIN:STANDARD
TZOFFSETFROM:+0100
TZOFFSETTO:+0000
TZNAME:GMT
DTSTART:20261025T010000
END:STANDARD
BEGIN:DAYLIGHT
TZOFFSETFROM:+0000
TZOFFSETTO:+0100
TZNAME:BST
DTSTART:20270328T010000
END:DAYLIGHT
BEGIN:STANDARD
TZOFFSETFROM:+0100
TZOFFSETTO:+0000
TZNAME:GMT
DTSTART:20271031T010000
END:STANDARD
END:VTIMEZONE
BEGIN:VEVENT
DTSTART;TZID=Europe/London:20260905T090000
DTEND;TZID=Europe/London:20260905T170000
DTSTAMP:20260423T052708
CREATED:20260201T162526Z
LAST-MODIFIED:20260201T162526Z
UID:3792-1788598800-1788627600@grafhamflyfishers.co.uk
SUMMARY:AMFC Group 1 Round 5
DESCRIPTION:6 rods from the A Team \norganised by Chris Bobby \nAll Fees will be sorted at the end of the year.
URL:https://grafhamflyfishers.co.uk/event/amfc-group-1-round-5/
LOCATION:Grafham Water\, West Perry\, Huntingdon\, PE28 0BX\, United Kingdom
END:VEVENT
BEGIN:VEVENT
DTSTART;TZID=Europe/London:20260906T090000
DTEND;TZID=Europe/London:20260906T170000
DTSTAMP:20260423T052708
CREATED:20260201T170634Z
LAST-MODIFIED:20260201T170634Z
UID:3814-1788685200-1788714000@grafhamflyfishers.co.uk
SUMMARY:Maitland Trophy sponsored by Douglas Rods and Wading Waters
DESCRIPTION:The annual interclub loch style boat competition being fished on Rutland Water this year. \nA Team of 16 GWFFA members will fish for the club and hopefully win it for a 3rd year in a row !! \nif you want to fish please contact Christopher Faulkner – Club Captain. \nThe event include dinner afterwards with the Prize Giving \n 
URL:https://grafhamflyfishers.co.uk/event/maitland-trophy-sponsored-by-douglas-rods-and-wading-waters/
LOCATION:Rutland Water\, Normanton Rd\, Edith Weston\, Oakham\, LE15 8HD\, United Kingdom
CATEGORIES:Other competitions
ORGANIZER;CN="Christopher Faulkner":MAILTO:tophergfaulkner@gmail.com
END:VEVENT
BEGIN:VEVENT
DTSTART;TZID=Europe/London:20260913T093000
DTEND;TZID=Europe/London:20260913T170000
DTSTAMP:20260423T052708
CREATED:20260108T230730Z
LAST-MODIFIED:20260201T150640Z
UID:3746-1789291800-1789318800@grafhamflyfishers.co.uk
SUMMARY:Boat Match Three - Club Championship
DESCRIPTION:Supported By \nA 4 fish kill\, 8 fish catch and release match to reservoir rules but members can fish just catch and release and enjoy the experience of a slightly more competitive day.  No time bonus. \nUsual 0845 meet – 0930 fish and we do stop for lunch at 1300 ( but tactics may be kept secret!!!) back out at 1345 and finish at 1700 followed by the weigh in.
URL:https://grafhamflyfishers.co.uk/event/boat-match-three-club-championship/
LOCATION:Grafham Water\, West Perry\, Huntingdon\, PE28 0BX\, United Kingdom
CATEGORIES:GWFFA Event
ORGANIZER;CN="Christopher Faulkner":MAILTO:tophergfaulkner@gmail.com
END:VEVENT
BEGIN:VEVENT
DTSTART;TZID=Europe/London:20260917T093000
DTEND;TZID=Europe/London:20260917T170000
DTSTAMP:20260423T052708
CREATED:20260108T214956Z
LAST-MODIFIED:20260108T221941Z
UID:3709-1789637400-1789664400@grafhamflyfishers.co.uk
SUMMARY:Social Boat Day 7
DESCRIPTION:The day is supported by \nOur GWFFA Social Boat Days are for all members to enjoy loch style fishing on one of the Anglian Water Reservoirs.    They are very informal and members can bring guests by contacting The Club Captain\, Christopher Faulkner. The boats will be paired with an experienced angler with a newer less experienced member and its all about learning and enjoyment . \nWe meet at 0845 at the Lodge\,  fish from 0930 to 1300 when we stop for lunch on the grass outside the lodge\,  and share our morning experiences\, then back fishing at 1345.   The day finishes when you want to stop or you reach the official boats in time !! \n2025 and 2026 New Members can attend one social day for the subsidised price of £5.00 to encourage participation.  just contact Christopher \nif you have any questions please give Christopher a call   – 07921 940836
URL:https://grafhamflyfishers.co.uk/event/social-boat-day-7/
LOCATION:Grafham Water\, West Perry\, Huntingdon\, PE28 0BX\, United Kingdom
CATEGORIES:GWFFA Event
ORGANIZER;CN="Christopher Faulkner":MAILTO:tophergfaulkner@gmail.com
END:VEVENT
BEGIN:VEVENT
DTSTART;TZID=Europe/London:20260919T090000
DTEND;TZID=Europe/London:20260919T170000
DTSTAMP:20260423T052708
CREATED:20260201T161907Z
LAST-MODIFIED:20260201T161907Z
UID:3784-1789808400-1789837200@grafhamflyfishers.co.uk
SUMMARY:AMFC Group 3 Round 5
DESCRIPTION:6 rods from the B Team \norganised by Simon Goodland \nAll Fees will be sorted at the end of the year.
URL:https://grafhamflyfishers.co.uk/event/amfc-group-3-round-5/
LOCATION:Draycote Fishing Lodge\, Kites Hardwick\, Rugby\, CV23 8AB\, United Kingdom
CATEGORIES:AMFC
END:VEVENT
BEGIN:VEVENT
DTSTART;TZID=Europe/London:20260927T080000
DTEND;TZID=Europe/London:20260927T150000
DTSTAMP:20260423T052708
CREATED:20260108T223356Z
LAST-MODIFIED:20260108T223356Z
UID:3733-1790496000-1790521200@grafhamflyfishers.co.uk
SUMMARY:Bank Match Two - Club Championship
DESCRIPTION:Supported by \nA 6 fish kill match to reservoir rules.  Fishing starts at 0800\,  please register you are fishing on Clubmate \nWeigh In at the lodge from 1500 and anglers must be at the weigh in by 1520 or will be disqualified \nMatch Fee will be £3.00 cash on the day.
URL:https://grafhamflyfishers.co.uk/event/bank-match-two-club-championship/
LOCATION:Grafham Water\, West Perry\, Huntingdon\, PE28 0BX\, United Kingdom
CATEGORIES:GWFFA Event
ORGANIZER;CN="Christopher Faulkner":MAILTO:tophergfaulkner@gmail.com
END:VEVENT
END:VCALENDAR