BEGIN:VCALENDAR
VERSION:2.0
PRODID:-//Grafham Water Fly Fishers Association - ECPv6.15.12//NONSGML v1.0//EN
CALSCALE:GREGORIAN
METHOD:PUBLISH
X-WR-CALNAME:Grafham Water Fly Fishers Association
X-ORIGINAL-URL:https://grafhamflyfishers.co.uk
X-WR-CALDESC:Events for Grafham Water Fly Fishers Association
REFRESH-INTERVAL;VALUE=DURATION:PT1H
X-Robots-Tag:noindex
X-PUBLISHED-TTL:PT1H
BEGIN:VTIMEZONE
TZID:Europe/London
BEGIN:DAYLIGHT
TZOFFSETFROM:+0000
TZOFFSETTO:+0100
TZNAME:BST
DTSTART:20250330T010000
END:DAYLIGHT
BEGIN:STANDARD
TZOFFSETFROM:+0100
TZOFFSETTO:+0000
TZNAME:GMT
DTSTART:20251026T010000
END:STANDARD
BEGIN:DAYLIGHT
TZOFFSETFROM:+0000
TZOFFSETTO:+0100
TZNAME:BST
DTSTART:20260329T010000
END:DAYLIGHT
BEGIN:STANDARD
TZOFFSETFROM:+0100
TZOFFSETTO:+0000
TZNAME:GMT
DTSTART:20261025T010000
END:STANDARD
BEGIN:DAYLIGHT
TZOFFSETFROM:+0000
TZOFFSETTO:+0100
TZNAME:BST
DTSTART:20270328T010000
END:DAYLIGHT
BEGIN:STANDARD
TZOFFSETFROM:+0100
TZOFFSETTO:+0000
TZNAME:GMT
DTSTART:20271031T010000
END:STANDARD
END:VTIMEZONE
BEGIN:VEVENT
DTSTART;TZID=Europe/London:20260816T090000
DTEND;TZID=Europe/London:20260816T170000
DTSTAMP:20260423T033849
CREATED:20260201T164442Z
LAST-MODIFIED:20260201T164442Z
UID:3802-1786870800-1786899600@grafhamflyfishers.co.uk
SUMMARY:Grafham Shrimps - 6 X 4 Competition
DESCRIPTION:The Grafham Shrimps is a team of 4 who fish in the 6X4 series across the season \nThe team is managed by Alex Green and if you are interested please contact him ( his details are in Clubmate ) \nThe teams usually practice on the Saturday and the competition is on the Sunday \nGWFFA pays the entry fee for the competition – Alex will sort out the individual match fees
URL:https://grafhamflyfishers.co.uk/event/grafham-shrimps-6-x-4-competition-4/
LOCATION:Llyn Clywedog Trout Fishery\, Llanidloes\, Powys\, SY18 6NX\, United Kingdom
CATEGORIES:6 X 4
ORGANIZER;CN="Alex Green":MAILTO:sibleygreen@yahoo.co.uk
END:VEVENT
BEGIN:VEVENT
DTSTART;TZID=Europe/London:20260819T093000
DTEND;TZID=Europe/London:20260819T170000
DTSTAMP:20260423T033849
CREATED:20260108T214811Z
LAST-MODIFIED:20260108T222026Z
UID:3707-1787131800-1787158800@grafhamflyfishers.co.uk
SUMMARY:Social Boat Day 6
DESCRIPTION:The day is supported by \nOur GWFFA Social Boat Days are for all members to enjoy loch style fishing on one of the Anglian Water Reservoirs.    They are very informal and members can bring guests by contacting The Club Captain\, Christopher Faulkner.   The boats will be paired with an experienced angler with a newer less experienced member and its all about learning and enjoyment . \nwe meet at 0845 at the Lodge\,  fish from 0930 to 1300 when we stop for lunch on the grass outside the lodge\,  and share our morning experiences\, then back fishing at 1345.   The day finishes when you want to stop or you reach the official boats in time !! \n2025 and 2026 New Members can attend one social day for the subsidised price of £5.00 to encourage participation.  just contact Christopher \nif you have any questions please give Christopher a call   – 07921 940836
URL:https://grafhamflyfishers.co.uk/event/social-boat-day-6/
LOCATION:Grafham Water\, West Perry\, Huntingdon\, PE28 0BX\, United Kingdom
CATEGORIES:GWFFA Event
ORGANIZER;CN="Christopher Faulkner":MAILTO:tophergfaulkner@gmail.com
END:VEVENT
END:VCALENDAR