BEGIN:VCALENDAR
VERSION:2.0
PRODID:-//Grafham Water Fly Fishers Association - ECPv6.15.12//NONSGML v1.0//EN
CALSCALE:GREGORIAN
METHOD:PUBLISH
X-ORIGINAL-URL:https://grafhamflyfishers.co.uk
X-WR-CALDESC:Events for Grafham Water Fly Fishers Association
REFRESH-INTERVAL;VALUE=DURATION:PT1H
X-Robots-Tag:noindex
X-PUBLISHED-TTL:PT1H
BEGIN:VTIMEZONE
TZID:Europe/London
BEGIN:DAYLIGHT
TZOFFSETFROM:+0000
TZOFFSETTO:+0100
TZNAME:BST
DTSTART:20250330T010000
END:DAYLIGHT
BEGIN:STANDARD
TZOFFSETFROM:+0100
TZOFFSETTO:+0000
TZNAME:GMT
DTSTART:20251026T010000
END:STANDARD
BEGIN:DAYLIGHT
TZOFFSETFROM:+0000
TZOFFSETTO:+0100
TZNAME:BST
DTSTART:20260329T010000
END:DAYLIGHT
BEGIN:STANDARD
TZOFFSETFROM:+0100
TZOFFSETTO:+0000
TZNAME:GMT
DTSTART:20261025T010000
END:STANDARD
BEGIN:DAYLIGHT
TZOFFSETFROM:+0000
TZOFFSETTO:+0100
TZNAME:BST
DTSTART:20270328T010000
END:DAYLIGHT
BEGIN:STANDARD
TZOFFSETFROM:+0100
TZOFFSETTO:+0000
TZNAME:GMT
DTSTART:20271031T010000
END:STANDARD
END:VTIMEZONE
BEGIN:VEVENT
DTSTART;TZID=Europe/London:20260321T090000
DTEND;TZID=Europe/London:20260321T160000
DTSTAMP:20260419T150806
CREATED:20260106T170119Z
LAST-MODIFIED:20260106T170119Z
UID:3687-1774083600-1774108800@grafhamflyfishers.co.uk
SUMMARY:Semperfli Roadshow
DESCRIPTION:Semperfli are again running a roadshow at the Tempsford Village Hall and we will be present with a stand and to offer the refreshments – full details to follow in due course – provisional times 0900 to 1600
URL:https://grafhamflyfishers.co.uk/event/semperfli-roadshow/
LOCATION:Stuart Memorial Hall\, Church Street\, Tempsford\, Bedfordshire\, SG19 2AW\, United Kingdom
CATEGORIES:Other Activities
ORGANIZER;CN="Christopher Faulkner":MAILTO:tophergfaulkner@gmail.com
END:VEVENT
BEGIN:VEVENT
DTSTART;TZID=Europe/London:20260329T103000
DTEND;TZID=Europe/London:20260329T120000
DTSTAMP:20260419T150806
CREATED:20260106T171315Z
LAST-MODIFIED:20260106T171315Z
UID:3690-1774780200-1774785600@grafhamflyfishers.co.uk
SUMMARY:GWFFA AGM
DESCRIPTION:we will hold our AGM on Sunday 29th March at 1030hrs in the downstairs meeting room at Grafham Lodge \nfollowing the AGM it is planned to hold a bring and buy table top tackle sale and Peter Hartley and Christopher Faulkner will be offering casting clinics to help members improve their casting \nfull details of the AGM Agenda will follow but should you wish to have an item discussed please advice our secretary – Philip Sorensen by the 14th March –   philip.sorensen@urw.com
URL:https://grafhamflyfishers.co.uk/event/gwffa-agm/
LOCATION:Grafham Water\, West Perry\, Huntingdon\, PE28 0BX\, United Kingdom
CATEGORIES:Other Activities
ORGANIZER;CN="Mark Brinkman":MAILTO:mark.brinkman@btinternet.com
END:VEVENT
END:VCALENDAR