BEGIN:VCALENDAR
VERSION:2.0
PRODID:-//Grafham Water Fly Fishers Association - ECPv6.15.12//NONSGML v1.0//EN
CALSCALE:GREGORIAN
METHOD:PUBLISH
X-ORIGINAL-URL:https://grafhamflyfishers.co.uk
X-WR-CALDESC:Events for Grafham Water Fly Fishers Association
REFRESH-INTERVAL;VALUE=DURATION:PT1H
X-Robots-Tag:noindex
X-PUBLISHED-TTL:PT1H
BEGIN:VTIMEZONE
TZID:Europe/London
BEGIN:DAYLIGHT
TZOFFSETFROM:+0000
TZOFFSETTO:+0100
TZNAME:BST
DTSTART:20250330T010000
END:DAYLIGHT
BEGIN:STANDARD
TZOFFSETFROM:+0100
TZOFFSETTO:+0000
TZNAME:GMT
DTSTART:20251026T010000
END:STANDARD
BEGIN:DAYLIGHT
TZOFFSETFROM:+0000
TZOFFSETTO:+0100
TZNAME:BST
DTSTART:20260329T010000
END:DAYLIGHT
BEGIN:STANDARD
TZOFFSETFROM:+0100
TZOFFSETTO:+0000
TZNAME:GMT
DTSTART:20261025T010000
END:STANDARD
BEGIN:DAYLIGHT
TZOFFSETFROM:+0000
TZOFFSETTO:+0100
TZNAME:BST
DTSTART:20270328T010000
END:DAYLIGHT
BEGIN:STANDARD
TZOFFSETFROM:+0100
TZOFFSETTO:+0000
TZNAME:GMT
DTSTART:20271031T010000
END:STANDARD
END:VTIMEZONE
BEGIN:VEVENT
DTSTART;TZID=Europe/London:20260704T093000
DTEND;TZID=Europe/London:20260704T170000
DTSTAMP:20260423T071812
CREATED:20260108T232906Z
LAST-MODIFIED:20260108T232906Z
UID:3752-1783157400-1783184400@grafhamflyfishers.co.uk
SUMMARY:GWFFA and England Disabled Fly Fishers Day
DESCRIPTION:An Opportunity to share a day on Grafham with EDFF for a friendly days fishing. \nmeet 0845 at the lodge\, fishing 0930 to 1300 then break for lunch and back fishing 1345 to 1700 ( or when you wish to finish. ) \nMore details in due course and members are encouraged to come and enjoy a days fishing with the EDFF – they have a great deal of experience.
URL:https://grafhamflyfishers.co.uk/event/gwffa-and-england-disabled-fly-fishers-day/
LOCATION:Grafham Water\, West Perry\, Huntingdon\, PE28 0BX\, United Kingdom
CATEGORIES:GWFFA Event
ORGANIZER;CN="Christopher Faulkner":MAILTO:tophergfaulkner@gmail.com
END:VEVENT
BEGIN:VEVENT
DTSTART;TZID=Europe/London:20260715T093000
DTEND;TZID=Europe/London:20260715T170000
DTSTAMP:20260423T071812
CREATED:20260108T221458Z
LAST-MODIFIED:20260108T222108Z
UID:3720-1784107800-1784134800@grafhamflyfishers.co.uk
SUMMARY:GWFFA Day at Draycote
DESCRIPTION:The day is supported by \nThis social boat day is for all members to enjoy loch style fishing on a different one of the Anglian Water Reservoirs.    It will be very informal and members can bring guests by contacting The Club Captain\, Christopher Faulkner.   The boats will be paired with an experienced angler with a newer less experienced member and its all about learning and enjoyment . \nwe meet at 0845 at the Lodge\,  fish from 0930 to 1300 when we will stop for lunch\, to share the mornings experiences\, and then back out at 1345hrs. .   The day finishes when you want to stop or you reach the official boats in time !! \n2025 and 2026 New Members can attend one social day for the subsidised price of £5.00 to encourage participation.  just contact Christopher \nif you have any questions please give Christopher a call   – 07921 940836
URL:https://grafhamflyfishers.co.uk/event/gwffa-day-at-draycote/
LOCATION:Draycote Fishing Lodge\, Kites Hardwick\, Rugby\, CV23 8AB\, United Kingdom
CATEGORIES:GWFFA Event
ORGANIZER;CN="Christopher Faulkner":MAILTO:tophergfaulkner@gmail.com
END:VEVENT
BEGIN:VEVENT
DTSTART;TZID=Europe/London:20260725T090000
DTEND;TZID=Europe/London:20260725T150000
DTSTAMP:20260423T071812
CREATED:20260108T232402Z
LAST-MODIFIED:20260108T232402Z
UID:3750-1784970000-1784991600@grafhamflyfishers.co.uk
SUMMARY:The GWFFA Members Day and BBQ
DESCRIPTION:This is a celebration of the club and fly fishing on Grafham. \nMeet at 0815 and fish from 0900 to 1500 \nThis will be followed by a great BBQ to include desserts and refreshments all funded by the Club in appreciation of your membership and participation. \nIt is planned to also hold a casting competition in the afternoon at 1600hrs – currently under review so details to follow. \nMembers can invite guests to fish and join the BBQ ( £5 cash for the BBQ) and members partners are also invited to join the BBQ if they don’t fish!!!
URL:https://grafhamflyfishers.co.uk/event/the-gwffa-members-day-and-bbq/
LOCATION:Grafham Water\, West Perry\, Huntingdon\, PE28 0BX\, United Kingdom
CATEGORIES:GWFFA Event
ORGANIZER;CN="Christopher Faulkner":MAILTO:tophergfaulkner@gmail.com
END:VEVENT
BEGIN:VEVENT
DTSTART;TZID=Europe/London:20260819T093000
DTEND;TZID=Europe/London:20260819T170000
DTSTAMP:20260423T071812
CREATED:20260108T214811Z
LAST-MODIFIED:20260108T222026Z
UID:3707-1787131800-1787158800@grafhamflyfishers.co.uk
SUMMARY:Social Boat Day 6
DESCRIPTION:The day is supported by \nOur GWFFA Social Boat Days are for all members to enjoy loch style fishing on one of the Anglian Water Reservoirs.    They are very informal and members can bring guests by contacting The Club Captain\, Christopher Faulkner.   The boats will be paired with an experienced angler with a newer less experienced member and its all about learning and enjoyment . \nwe meet at 0845 at the Lodge\,  fish from 0930 to 1300 when we stop for lunch on the grass outside the lodge\,  and share our morning experiences\, then back fishing at 1345.   The day finishes when you want to stop or you reach the official boats in time !! \n2025 and 2026 New Members can attend one social day for the subsidised price of £5.00 to encourage participation.  just contact Christopher \nif you have any questions please give Christopher a call   – 07921 940836
URL:https://grafhamflyfishers.co.uk/event/social-boat-day-6/
LOCATION:Grafham Water\, West Perry\, Huntingdon\, PE28 0BX\, United Kingdom
CATEGORIES:GWFFA Event
ORGANIZER;CN="Christopher Faulkner":MAILTO:tophergfaulkner@gmail.com
END:VEVENT
BEGIN:VEVENT
DTSTART;TZID=Europe/London:20260913T093000
DTEND;TZID=Europe/London:20260913T170000
DTSTAMP:20260423T071812
CREATED:20260108T230730Z
LAST-MODIFIED:20260201T150640Z
UID:3746-1789291800-1789318800@grafhamflyfishers.co.uk
SUMMARY:Boat Match Three - Club Championship
DESCRIPTION:Supported By \nA 4 fish kill\, 8 fish catch and release match to reservoir rules but members can fish just catch and release and enjoy the experience of a slightly more competitive day.  No time bonus. \nUsual 0845 meet – 0930 fish and we do stop for lunch at 1300 ( but tactics may be kept secret!!!) back out at 1345 and finish at 1700 followed by the weigh in.
URL:https://grafhamflyfishers.co.uk/event/boat-match-three-club-championship/
LOCATION:Grafham Water\, West Perry\, Huntingdon\, PE28 0BX\, United Kingdom
CATEGORIES:GWFFA Event
ORGANIZER;CN="Christopher Faulkner":MAILTO:tophergfaulkner@gmail.com
END:VEVENT
BEGIN:VEVENT
DTSTART;TZID=Europe/London:20260917T093000
DTEND;TZID=Europe/London:20260917T170000
DTSTAMP:20260423T071812
CREATED:20260108T214956Z
LAST-MODIFIED:20260108T221941Z
UID:3709-1789637400-1789664400@grafhamflyfishers.co.uk
SUMMARY:Social Boat Day 7
DESCRIPTION:The day is supported by \nOur GWFFA Social Boat Days are for all members to enjoy loch style fishing on one of the Anglian Water Reservoirs.    They are very informal and members can bring guests by contacting The Club Captain\, Christopher Faulkner. The boats will be paired with an experienced angler with a newer less experienced member and its all about learning and enjoyment . \nWe meet at 0845 at the Lodge\,  fish from 0930 to 1300 when we stop for lunch on the grass outside the lodge\,  and share our morning experiences\, then back fishing at 1345.   The day finishes when you want to stop or you reach the official boats in time !! \n2025 and 2026 New Members can attend one social day for the subsidised price of £5.00 to encourage participation.  just contact Christopher \nif you have any questions please give Christopher a call   – 07921 940836
URL:https://grafhamflyfishers.co.uk/event/social-boat-day-7/
LOCATION:Grafham Water\, West Perry\, Huntingdon\, PE28 0BX\, United Kingdom
CATEGORIES:GWFFA Event
ORGANIZER;CN="Christopher Faulkner":MAILTO:tophergfaulkner@gmail.com
END:VEVENT
BEGIN:VEVENT
DTSTART;TZID=Europe/London:20260927T080000
DTEND;TZID=Europe/London:20260927T150000
DTSTAMP:20260423T071812
CREATED:20260108T223356Z
LAST-MODIFIED:20260108T223356Z
UID:3733-1790496000-1790521200@grafhamflyfishers.co.uk
SUMMARY:Bank Match Two - Club Championship
DESCRIPTION:Supported by \nA 6 fish kill match to reservoir rules.  Fishing starts at 0800\,  please register you are fishing on Clubmate \nWeigh In at the lodge from 1500 and anglers must be at the weigh in by 1520 or will be disqualified \nMatch Fee will be £3.00 cash on the day.
URL:https://grafhamflyfishers.co.uk/event/bank-match-two-club-championship/
LOCATION:Grafham Water\, West Perry\, Huntingdon\, PE28 0BX\, United Kingdom
CATEGORIES:GWFFA Event
ORGANIZER;CN="Christopher Faulkner":MAILTO:tophergfaulkner@gmail.com
END:VEVENT
BEGIN:VEVENT
DTSTART;TZID=Europe/London:20261003T093000
DTEND;TZID=Europe/London:20261003T170000
DTSTAMP:20260423T071812
CREATED:20260108T215144Z
LAST-MODIFIED:20260108T221620Z
UID:3711-1791019800-1791046800@grafhamflyfishers.co.uk
SUMMARY:Social Boat Day 8
DESCRIPTION:The day is supported by \nOur GWFFA Social Boat Days are for all members to enjoy loch style fishing on one of the Anglian Water Reservoirs.    They are very informal and members can bring guests by contacting The Club Captain\, Christopher Faulkner.   the boats will be paired with an experienced angler with a newer less experienced member and its all about learning and enjoyment . \nwe meet at 0845 at the Lodge\,  fish from 0930 to 1300 when we stop for lunch on the grass outside the lodge\,  and share our morning experiences\, then back fishing at 1345.   The day finishes when you want to stop or you reach the official boats in time !! \n2025 and 2026 New Members can attend one social day for the subsidised price of £5.00 to encourage participation.  just contact Christopher \nif you have any questions please give Christopher a call   – 07921 940836
URL:https://grafhamflyfishers.co.uk/event/social-boat-day-8/
LOCATION:Grafham Water\, West Perry\, Huntingdon\, PE28 0BX\, United Kingdom
CATEGORIES:GWFFA Event
ORGANIZER;CN="Christopher Faulkner":MAILTO:tophergfaulkner@gmail.com
END:VEVENT
BEGIN:VEVENT
DTSTART;TZID=Europe/London:20261031T080000
DTEND;TZID=Europe/London:20261031T150000
DTSTAMP:20260423T071812
CREATED:20260108T223627Z
LAST-MODIFIED:20260108T223627Z
UID:3735-1793433600-1793458800@grafhamflyfishers.co.uk
SUMMARY:Bank Match Three - Club Championship
DESCRIPTION:Supported by \nA 6 fish kill match to reservoir rules.  Fishing starts at 0800\,  please register you are fishing on Clubmate \nWeigh In at the lodge from 1500 and anglers must be at the weigh in by 1520 or will be disqualified \nMatch Fee will be £3.00 cash on the day.
URL:https://grafhamflyfishers.co.uk/event/bank-match-three-club-championship/
LOCATION:Grafham Water\, West Perry\, Huntingdon\, PE28 0BX\, United Kingdom
CATEGORIES:GWFFA Event
ORGANIZER;CN="Christopher Faulkner":MAILTO:tophergfaulkner@gmail.com
END:VEVENT
BEGIN:VEVENT
DTSTART;TZID=Europe/London:20261114T080000
DTEND;TZID=Europe/London:20261114T150000
DTSTAMP:20260423T071812
CREATED:20260108T224038Z
LAST-MODIFIED:20260108T224038Z
UID:3737-1794643200-1794668400@grafhamflyfishers.co.uk
SUMMARY:GWFFA Winter Plate
DESCRIPTION:Supported by \nA 6 fish kill match to reservoir rules.  Fishing starts at 0800\,  please register you are fishing on Clubmate \nWeigh In at the lodge from 1500 and anglers must be at the weigh in by 1520 or will be disqualified \nMatch Fee will be £3.00 cash on the day. \nThis will be a celebration of the years events and a great selection of food and drink gifts will be at the weigh in
URL:https://grafhamflyfishers.co.uk/event/gwffa-winter-plate/
LOCATION:Grafham Water\, West Perry\, Huntingdon\, PE28 0BX\, United Kingdom
CATEGORIES:GWFFA Event
ORGANIZER;CN="Christopher Faulkner":MAILTO:tophergfaulkner@gmail.com
END:VEVENT
END:VCALENDAR